BEGIN:VCALENDAR
VERSION:2.0
PRODID:icalendar-ruby
CALSCALE:GREGORIAN
BEGIN:VEVENT
DTSTAMP:20191218T045544Z
UID:71c3018b-f4e8-4c09-878c-a41ac879b529
DTSTART;VALUE=DATE:20191114
DESCRIPTION:Property ID# 443613\, Locatoin: Harcourts Optimize Realty Ltd A
 uction rooms\, Lvl 3\, 35 Robert st\, Whangarei\, Time: 12:00PM
SUMMARY:Auction for 60 Owhiwa Rd
END:VEVENT
END:VCALENDAR
