BEGIN:VCALENDAR
VERSION:2.0
PRODID:icalendar-ruby
CALSCALE:GREGORIAN
BEGIN:VEVENT
DTSTAMP:20191218T045527Z
UID:4b584e77-06cb-4c58-b734-b671bb2d926a
DTSTART;VALUE=DATE:20191120
DESCRIPTION:Property ID# 462866\, Locatoin: 84 Walton Street\, Whangarei\, 
 Time: 1:00PM
SUMMARY:Auction for 
END:VEVENT
END:VCALENDAR
