BEGIN:VCALENDAR
VERSION:2.0
PRODID:icalendar-ruby
CALSCALE:GREGORIAN
BEGIN:VEVENT
DTSTAMP:20191218T044401Z
UID:b1045a2a-1e60-4a14-8a13-def6d2e270b9
DTSTART;TZID=Pacific/Auckland:20191218T163000
DTEND;TZID=Pacific/Auckland:20191218T170000
DESCRIPTION:Property ID# 467940
SUMMARY:Openhome for 54 Boundary Road
END:VEVENT
END:VCALENDAR
