BEGIN:VCALENDAR
VERSION:2.0
PRODID:icalendar-ruby
CALSCALE:GREGORIAN
BEGIN:VEVENT
DTSTAMP:20260419T142416Z
UID:bb0dbd00-4d96-48ac-b9fc-465e2904322b
DTSTART;VALUE=DATE:20260402
DESCRIPTION:Property ID# 600276\, Locatoin: Tremains Rotorua Office 1127 Fe
 nton Street\, Time: 12:00PM
SUMMARY:Auction for 3A Nairn Road
END:VEVENT
END:VCALENDAR
